{"text_format":"1","workbook":"xlsx","n_sheets":4,"sheets":["Sheet1","Sheet2","Table2","Sheet3"],"not_rendered":{"charts":0,"images":0,"macros":1,"external_links":0,"defined_names":3,"comments":0,"pivot_tables":0},"unopened":[],"bounds":{"document_bytes":16777216,"sheet_cells":100000,"rows_first":2000,"rows_last":500,"rows_between":2000,"halvings":0,"cell_chars":16384,"cell_head_chars":4096},"cells_cut":0,"cells_raw":0,"read":"whole","date_system":"1900"}

{"sheet":"Sheet1","index":0,"n_rows":21,"n_cols":2,"rows_kept":21,"cut":false,"hidden":false,"merged":[]}
["Employee IDs","Check"]
["E1234X@",{"$f":"SUMPRODUCT(--ISNUMBER(SEARCH({\"_\",\"&\",\"!\",\"#\",\"$\",\"%\",\"(\",\")\",\"^\",\"@\",\"[\",\"]\",\"{\",\"}\",\"-\"},A2)))=0","v":false}]
["F567Y",{"$f":"SUMPRODUCT(--ISNUMBER(SEARCH({\"_\",\"&\",\"!\",\"#\",\"$\",\"%\",\"(\",\")\",\"^\",\"@\",\"[\",\"]\",\"{\",\"}\",\"-\"},A3)))=0","v":true}]
["G890Z",{"$f":"SUMPRODUCT(--ISNUMBER(SEARCH({\"_\",\"&\",\"!\",\"#\",\"$\",\"%\",\"(\",\")\",\"^\",\"@\",\"[\",\"]\",\"{\",\"}\",\"-\"},A4)))=0","v":true}]
["H123K",{"$f":"SUMPRODUCT(--ISNUMBER(SEARCH({\"_\",\"&\",\"!\",\"#\",\"$\",\"%\",\"(\",\")\",\"^\",\"@\",\"[\",\"]\",\"{\",\"}\",\"-\"},A5)))=0","v":true}]
["I_456LM",{"$f":"SUMPRODUCT(--ISNUMBER(SEARCH({\"_\",\"&\",\"!\",\"#\",\"$\",\"%\",\"(\",\")\",\"^\",\"@\",\"[\",\"]\",\"{\",\"}\",\"-\"},A6)))=0","v":false}]
["J987!N(",{"$f":"SUMPRODUCT(--ISNUMBER(SEARCH({\"_\",\"&\",\"!\",\"#\",\"$\",\"%\",\"(\",\")\",\"^\",\"@\",\"[\",\"]\",\"{\",\"}\",\"-\"},A7)))=0","v":false}]
["K234P",{"$f":"SUMPRODUCT(--ISNUMBER(SEARCH({\"_\",\"&\",\"!\",\"#\",\"$\",\"%\",\"(\",\")\",\"^\",\"@\",\"[\",\"]\",\"{\",\"}\",\"-\"},A8)))=0","v":true}]
["L-567QR",{"$f":"SUMPRODUCT(--ISNUMBER(SEARCH({\"_\",\"&\",\"!\",\"#\",\"$\",\"%\",\"(\",\")\",\"^\",\"@\",\"[\",\"]\",\"{\",\"}\",\"-\"},A9)))=0","v":false}]
["M123STU",{"$f":"SUMPRODUCT(--ISNUMBER(SEARCH({\"_\",\"&\",\"!\",\"#\",\"$\",\"%\",\"(\",\")\",\"^\",\"@\",\"[\",\"]\",\"{\",\"}\",\"-\"},A10)))=0","v":true}]
["N_890VWXY",{"$f":"SUMPRODUCT(--ISNUMBER(SEARCH({\"_\",\"&\",\"!\",\"#\",\"$\",\"%\",\"(\",\")\",\"^\",\"@\",\"[\",\"]\",\"{\",\"}\",\"-\"},A11)))=0","v":false}]
["E12@X!",{"$f":"SUMPRODUCT(--ISNUMBER(SEARCH({\"_\",\"&\",\"!\",\"#\",\"$\",\"%\",\"(\",\")\",\"^\",\"@\",\"[\",\"]\",\"{\",\"}\",\"-\"},A12)))=0","v":false}]
["F567YZ",{"$f":"SUMPRODUCT(--ISNUMBER(SEARCH({\"_\",\"&\",\"!\",\"#\",\"$\",\"%\",\"(\",\")\",\"^\",\"@\",\"[\",\"]\",\"{\",\"}\",\"-\"},A13)))=0","v":true}]
["G890_%",{"$f":"SUMPRODUCT(--ISNUMBER(SEARCH({\"_\",\"&\",\"!\",\"#\",\"$\",\"%\",\"(\",\")\",\"^\",\"@\",\"[\",\"]\",\"{\",\"}\",\"-\"},A14)))=0","v":false}]
["H12&KP",{"$f":"SUMPRODUCT(--ISNUMBER(SEARCH({\"_\",\"&\",\"!\",\"#\",\"$\",\"%\",\"(\",\")\",\"^\",\"@\",\"[\",\"]\",\"{\",\"}\",\"-\"},A15)))=0","v":false}]
["I456LM",{"$f":"SUMPRODUCT(--ISNUMBER(SEARCH({\"_\",\"&\",\"!\",\"#\",\"$\",\"%\",\"(\",\")\",\"^\",\"@\",\"[\",\"]\",\"{\",\"}\",\"-\"},A16)))=0","v":true}]
["J987N",{"$f":"SUMPRODUCT(--ISNUMBER(SEARCH({\"_\",\"&\",\"!\",\"#\",\"$\",\"%\",\"(\",\")\",\"^\",\"@\",\"[\",\"]\",\"{\",\"}\",\"-\"},A17)))=0","v":true}]
["K2@4PQ",{"$f":"SUMPRODUCT(--ISNUMBER(SEARCH({\"_\",\"&\",\"!\",\"#\",\"$\",\"%\",\"(\",\")\",\"^\",\"@\",\"[\",\"]\",\"{\",\"}\",\"-\"},A18)))=0","v":false}]
["L-5#7QR",{"$f":"SUMPRODUCT(--ISNUMBER(SEARCH({\"_\",\"&\",\"!\",\"#\",\"$\",\"%\",\"(\",\")\",\"^\",\"@\",\"[\",\"]\",\"{\",\"}\",\"-\"},A19)))=0","v":false}]
["M13STU",{"$f":"SUMPRODUCT(--ISNUMBER(SEARCH({\"_\",\"&\",\"!\",\"#\",\"$\",\"%\",\"(\",\")\",\"^\",\"@\",\"[\",\"]\",\"{\",\"}\",\"-\"},A20)))=0","v":true}]
["N_89!VXY",{"$f":"SUMPRODUCT(--ISNUMBER(SEARCH({\"_\",\"&\",\"!\",\"#\",\"$\",\"%\",\"(\",\")\",\"^\",\"@\",\"[\",\"]\",\"{\",\"}\",\"-\"},A21)))=0","v":false}]

{"sheet":"Sheet2","index":1,"n_rows":21,"n_cols":2,"rows_kept":21,"cut":false,"hidden":false,"merged":[]}
["Employee IDs","Check"]
["E1234X@",{"$f":"Check(A2)","v":"Incorrect"}]
["F567Y",{"$f":"Check(A3)","v":"Correct"}]
["G890Z",{"$f":"Check(A4)","v":"Correct"}]
["H123K",{"$f":"Check(A5)","v":"Correct"}]
["I_456LM",{"$f":"Check(A6)","v":"Incorrect"}]
["J987!N(",{"$f":"Check(A7)","v":"Incorrect"}]
["K234P",{"$f":"Check(A8)","v":"Correct"}]
["L-567QR",{"$f":"Check(A9)","v":"Incorrect"}]
["M123STU",{"$f":"Check(A10)","v":"Correct"}]
["N_890VWXY",{"$f":"Check(A11)","v":"Incorrect"}]
["E12@X!",{"$f":"Check(A12)","v":"Incorrect"}]
["F567YZ",{"$f":"Check(A13)","v":"Correct"}]
["G890_%",{"$f":"Check(A14)","v":"Incorrect"}]
["H12&KP",{"$f":"Check(A15)","v":"Incorrect"}]
["I456LM",{"$f":"Check(A16)","v":"Correct"}]
["J987N",{"$f":"Check(A17)","v":"Correct"}]
["K2@4PQ",{"$f":"Check(A18)","v":"Incorrect"}]
["L-5#7QR",{"$f":"Check(A19)","v":"Incorrect"}]
["M13STU",{"$f":"Check(A20)","v":"Correct"}]
["N_89!VXY",{"$f":"Check(A21)","v":"Incorrect"}]

{"sheet":"Table2","index":2,"n_rows":21,"n_cols":2,"rows_kept":21,"cut":false,"hidden":false,"merged":[]}
["Employee IDs","Cleaned Employee IDs"]
["E1234X@","E1234X"]
["F567Y","F567Y"]
["G890Z","G890Z"]
["H123K","H123K"]
["I_456LM","I456LM"]
["J987!N(","J987N"]
["K234P","K234P"]
["L-567QR","L567QR"]
["M123STU","M123STU"]
["N_890VWXY","N890VWXY"]
["E12@X!","E12X"]
["F567YZ","F567YZ"]
["G890_%","G890"]
["H12&KP","H12KP"]
["I456LM","I456LM"]
["J987N","J987N"]
["K2@4PQ","K24PQ"]
["L-5#7QR","L57QR"]
["M13STU","M13STU"]
["N_89!VXY","N89VXY"]

{"sheet":"Sheet3","index":3,"n_rows":21,"n_cols":1,"rows_kept":21,"cut":false,"hidden":false,"merged":[]}
["Employee IDs"]
["E1234X@"]
["F567Y"]
["G890Z"]
["H123K"]
["I_456LM"]
["J987!N("]
["K234P"]
["L-567QR"]
["M123STU"]
["N_890VWXY"]
["E12@X!"]
["F567YZ"]
["G890_%"]
["H12&KP"]
["I456LM"]
["J987N"]
["K2@4PQ"]
["L-5#7QR"]
["M13STU"]
["N_89!VXY"]