Workbook

Sheet Sales
A1: Order ID | B1: Date | C1: Customer ID | D1: Product | E1: Quantity | F1: Revenue | G1: Cost | H1: Customer Name | I1: Status | J1: Profit Margin | K1: Region | L1: Month
A2: ORD-0001 | B2: 45294 | C2: C105 | D2: Tablet 11 | E2: 15 | F2: =E2*VLOOKUP(D2,Products!$A$2:$C$7,2,FALSE()) -> 12750 | G2: 9101 | H2: =VLOOKUP(C2,'Customers'!$A$2:$H$41,2,FALSE()) -> David Jones | I2: Open | J2: =IFERROR((Sales[[#This Row],[Revenue]]-Sales[[#This Row],[Cost]])/Sales[[#This Row],[Revenue]],0) -> 0.28619608 | K2: =_xlfn.IFNA(_xlfn.XLOOKUP(Sales[[#This Row],[Customer ID]],Customers[Customer ID],Customers[Region]),"Not found") -> Northeast | L2: =DATE(YEAR(Sales[[#This Row],[Date]]),MONTH(Sales[[#This Row],[Date]]),1) -> 45292
A3: ORD-0002 | B3: 45295 | C3: C131 | D3: Desktop Tower | E3: 17 | F3: =E3*VLOOKUP(D3,Products!$A$2:$C$7,2,FALSE()) -> 20400 | G3: 14832 | H3: =VLOOKUP(C3,'Customers'!$A$2:$H$41,2,FALSE()) -> Zachary Wright | I3: Closed | J3: =IFERROR((Sales[[#This Row],[Revenue]]-Sales[[#This Row],[Cost]])/Sales[[#This Row],[Revenue]],0) -> 0.27294118 | K3: =_xlfn.IFNA(_xlfn.XLOOKUP(Sales[[#This Row],[Customer ID]],Customers[Customer ID],Customers[Region]),"Not found") -> Northeast | L3: =DATE(YEAR(Sales[[#This Row],[Date]]),MONTH(Sales[[#This Row],[Date]]),1) -> 45292
A4: ORD-0203 | B4: 46004 | C4: C140 | D4: Laptop Pro 15 | E4: 49 | F4: =E4*VLOOKUP(D4,Products!$A$2:$C$7,2,FALSE()) -> 88200 | G4: 65561 | H4: =VLOOKUP(C4,'Customers'!$A$2:$H$41,2,FALSE()) -> Alexis Carter | I4: Closed | J4: =IFERROR((Sales[[#This Row],[Revenue]]-Sales[[#This Row],[Cost]])/Sales[[#This Row],[Revenue]],0) -> 0.256678 | K4: =_xlfn.IFNA(_xlfn.XLOOKUP(Sales[[#This Row],[Customer ID]],Customers[Customer ID],Customers[Region]),"Not found") -> Northeast | L4: =DATE(YEAR(Sales[[#This Row],[Date]]),MONTH(Sales[[#This Row],[Date]]),1) -> 45992
A5: ORD-0004 | B5: 45304 | C5: C113 | D5: Tablet 11 | E5: 35 | F5: =E5*VLOOKUP(D5,Products!$A$2:$C$7,2,FALSE()) -> 29750 | G5: 21708 | H5: =VLOOKUP(C5,'Customers'!$A$2:$H$41,2,FALSE()) -> Andrew Wilson | I5: Closed | J5: =IFERROR((Sales[[#This Row],[Revenue]]-Sales[[#This Row],[Cost]])/Sales[[#This Row],[Revenue]],0) -> 0.27031933 | K5: =_xlfn.IFNA(_xlfn.XLOOKUP(Sales[[#This Row],[Customer ID]],Customers[Customer ID],Customers[Region]),"Not found") -> Northeast | L5: =DATE(YEAR(Sales[[#This Row],[Date]]),MONTH(Sales[[#This Row],[Date]]),1) -> 45292
A6: ORD-0005 | B6: 45305 | C6: C122 | D6: Tablet 11 | E6: 10 | F6: =E6*VLOOKUP(D6,Products!$A$2:$C$7,2,FALSE()) -> 8500 | G6: 6342 | H6: =VLOOKUP(C6,'Customers'!$A$2:$H$41,2,FALSE()) -> Nicole White | I6: Closed | J6: =IFERROR((Sales[[#This Row],[Revenue]]-Sales[[#This Row],[Cost]])/Sales[[#This Row],[Revenue]],0) -> 0.25388235 | K6: =_xlfn.IFNA(_xlfn.XLOOKUP(Sales[[#This Row],[Customer ID]],Customers[Customer ID],Customers[Region]),"Not found") -> West | L6: =DATE(YEAR(Sales[[#This Row],[Date]]),MONTH(Sales[[#This Row],[Date]]),1) -> 45292
A7: ORD-0006 | B7: 45307 | C7: C113 | D7: Monitor 27 | E7: 49 | F7: =E7*VLOOKUP(D7,Products!$A$2:$C$7,2,FALSE()) -> 22050 | G7: 15879 | H7: =VLOOKUP(C7,'Customers'!$A$2:$H$41,2,FALSE()) -> Andrew Wilson | I7: Closed | J7: =IFERROR((Sales[[#This Row],[Revenue]]-Sales[[#This Row],[Cost]])/Sales[[#This Row],[Revenue]],0) -> 0.27986395 | K7: =_xlfn.IFNA(_xlfn.XLOOKUP(Sales[[#This Row],[Customer ID]],Customers[Customer ID],Customers[Region]),"Not found") -> Northeast | L7: =DATE(YEAR(Sales[[#This Row],[Date]]),MONTH(Sales[[#This Row],[Date]]),1) -> 45292
A8: ORD-0007 | B8: 45307 | C8: C140 | D8: Wireless Printer | E8: 58 | F8: =E8*VLOOKUP(D8,Products!$A$2:$C$7,2,FALSE()) -> 17400 | G8: 12120 | H8: =VLOOKUP(C8,'Customers'!$A$2:$H$41,2,FALSE()) -> Alexis Carter | I8: Closed | J8: =IFERROR((Sales[[#This Row],[Revenue]]-Sales[[#This Row],[Cost]])/Sales[[#This Row],[Revenue]],0) -> 0.30344828 | K8: =_xlfn.IFNA(_xlfn.XLOOKUP(Sales[[#This Row],[Customer ID]],Customers[Customer ID],Customers[Region]),"Not found") -> Northeast | L8: =DATE(YEAR(Sales[[#This Row],[Date]]),MONTH(Sales[[#This Row],[Date]]),1) -> 45292
A9: ORD-0008 | B9: 45312 | C9: C106 | D9: Monitor 27 | E9: 58 | F9: =E9*VLOOKUP(D9,Products!$A$2:$C$7,2,FALSE()) -> 26100 | G9: 18737 | H9: =VLOOKUP(C9,'Customers'!$A$2:$H$41,2,FALSE()) -> Jessica Garcia | I9: Closed | J9: =IFERROR((Sales[[#This Row],[Revenue]]-Sales[[#This Row],[Cost]])/Sales[[#This Row],[Revenue]],0) -> 0.28210728 | K9: =_xlfn.IFNA(_xlfn.XLOOKUP(Sales[[#This Row],[Customer ID]],Customers[Customer ID],Customers[Region]),"Not found") -> South | L9: =DATE(YEAR(Sales[[#This Row],[Date]]),MONTH(Sales[[#This Row],[Date]]),1) -> 45292
A10: ORD-0202 | B10: 45998 | C10: C136 | D10: Laptop Pro 15 | E10: 58 | F10: =E10*VLOOKUP(D10,Products!$A$2:$C$7,2,FALSE()) -> 104400 | G10: 79268 | H10: =VLOOKUP(C10,'Customers'!$A$2:$H$41,2,FALSE()) -> Victoria Nelson | I10: Open | J10: =IFERROR((Sales[[#This Row],[Revenue]]-Sales[[#This Row],[Cost]])/Sales[[#This Row],[Revenue]],0) -> 0.24072797 | K10: =_xlfn.IFNA(_xlfn.XLOOKUP(Sales[[#This Row],[Customer ID]],Customers[Customer ID],Customers[Region]),"Not found") -> Northeast | L10: =DATE(YEAR(Sales[[#This Row],[Date]]),MONTH(Sales[[#This Row],[Date]]),1) -> 45992
A11: ORD-0010 | B11: 45327 | C11: C130 | D11: Wireless Printer | E11: 56 | F11: =E11*VLOOKUP(D11,Products!$A$2:$C$7,2,FALSE()) -> 16800 | G11: 12023 | H11: =VLOOKUP(C11,'Customers'!$A$2:$H$41,2,FALSE()) -> Olivia King | I11: Closed | J11: =IFERROR((Sales[[#This Row],[Revenue]]-Sales[[#This Row],[Cost]])/Sales[[#This Row],[Revenue]],0) -> 0.28434524 | K11: =_xlfn.IFNA(_xlfn.XLOOKUP(Sales[[#This Row],[Customer ID]],Customers[Customer ID],Customers[Region]),"Not found") -> Northeast | L11: =DATE(YEAR(Sales[[#This Row],[Date]]),MONTH(Sales[[#This Row],[Date]]),1) -> 45323
A12: ORD-0011 | B12: 45327 | C12: C136 | D12: Wireless Printer | E12: 13 | F12: =E12*VLOOKUP(D12,Products!$A$2:$C$7,2,FALSE()) -> 3900 | G12: 2660 | H12: =VLOOKUP(C12,'Customers'!$A$2:$H$41,2,FALSE()) -> Victoria Nelson | I12: Closed | J12: =IFERROR((Sales[[#This Row],[Revenue]]-Sales[[#This Row],[Cost]])/Sales[[#This Row],[Revenue]],0) -> 0.31794872 | K12: =_xlfn.IFNA(_xlfn.XLOOKUP(Sales[[#This Row],[Customer ID]],Customers[Customer ID],Customers[Region]),"Not found") -> Northeast | L12: =DATE(YEAR(Sales[[#This Row],[Date]]),MONTH(Sales[[#This Row],[Date]]),1) -> 45323
A13: ORD-0012 | B13: 45327 | C13: C113 | D13: Server Rack Unit | E13: 5 | F13: =E13*VLOOKUP(D13,Products!$A$2:$C$7,2,FALSE()) -> 47500 | G13: 34868 | H13: =VLOOKUP(C13,'Customers'!$A$2:$H$41,2,FALSE()) -> Andrew Wilson | I13: Closed | J13: =IFERROR((Sales[[#This Row],[Revenue]]-Sales[[#This Row],[Cost]])/Sales[[#This Row],[Revenue]],0) -> 0.26593684 | K13: =_xlfn.IFNA(_xlfn.XLOOKUP(Sales[[#This Row],[Customer ID]],Customers[Customer ID],Customers[Region]),"Not found") -> Northeast | L13: =DATE(YEAR(Sales[[#This Row],[Date]]),MONTH(Sales[[#This Row],[Date]]),1) -> 45323
... A206: ORD-0205 | B206: 46019 | C206: C131 | D206: Desktop Tower | E206: 16 | F206: =E206*VLOOKUP(D206,Products!$A$2:$C$7,2,FALSE()) -> 19200 | G206: 14450 | H206: =VLOOKUP(C206,'Customers'!$A$2:$H$41,2,FALSE()) -> Zachary Wright | I206: Closed | J206: =IFERROR((Sales[[#This Row],[Revenue]]-Sales[[#This Row],[Cost]])/Sales[[#This Row],[Revenue]],0) -> 0.24739583 | K206: =_xlfn.IFNA(_xlfn.XLOOKUP(Sales[[#This Row],[Customer ID]],Customers[Customer ID],Customers[Region]),"Not found") -> Northeast | L206: =DATE(YEAR(Sales[[#This Row],[Date]]),MONTH(Sales[[#This Row],[Date]]),1) -> 45992
A207: Closed Sales Total | F207: =SUMIF(Sales[Status],"Closed",Sales[Revenue]) -> 5316100 | K207: =SUBTOTAL(103,Sales[Region]) -> 205

Sheet Customers
A1: Customer ID | B1: Full Name | C1: First Name | D1: Last Name | E1: Email | F1: Phone | G1: City | H1: Region
A2: C101 | B2: James Smith | C2: =IFERROR(_xlfn.TEXTBEFORE(TRIM(Customers[[#This Row],[Full Name]])," "),TRIM(Customers[[#This Row],[Full Name]])) -> James | D2: =IFERROR(_xlfn.TEXTAFTER(TRIM(Customers[[#This Row],[Full Name]])," ",-1),"") -> Smith | E2: james.smith@example.com | F2: (355) 604-1791 | G2: Chicago | H2: Midwest
A3: C102 | B3: Emily Johnson | C3: =IFERROR(_xlfn.TEXTBEFORE(TRIM(Customers[[#This Row],[Full Name]])," "),TRIM(Customers[[#This Row],[Full Name]])) -> Emily | D3: =IFERROR(_xlfn.TEXTAFTER(TRIM(Customers[[#This Row],[Full Name]])," ",-1),"") -> Johnson | E3: emily.johnson@example.com | G3: New York | H3: Northeast
A4: C103 | B4: Michael Williams | C4: =IFERROR(_xlfn.TEXTBEFORE(TRIM(Customers[[#This Row],[Full Name]])," "),TRIM(Customers[[#This Row],[Full Name]])) -> Michael | D4: =IFERROR(_xlfn.TEXTAFTER(TRIM(Customers[[#This Row],[Full Name]])," ",-1),"") -> Williams | E4: michael.williams@example.com | F4: (289) 644-7851 | G4: Chicago | H4: Midwest
A5: C104 | B5: Sarah Brown | C5: =IFERROR(_xlfn.TEXTBEFORE(TRIM(Customers[[#This Row],[Full Name]])," "),TRIM(Customers[[#This Row],[Full Name]])) -> Sarah | D5: =IFERROR(_xlfn.TEXTAFTER(TRIM(Customers[[#This Row],[Full Name]])," ",-1),"") -> Brown | E5: sarah.brown@example.com | F5: (261) 779-3028 | G5: Los Angeles | H5: West
A6: C105 | B6: David Jones | C6: =IFERROR(_xlfn.TEXTBEFORE(TRIM(Customers[[#This Row],[Full Name]])," "),TRIM(Customers[[#This Row],[Full Name]])) -> David | D6: =IFERROR(_xlfn.TEXTAFTER(TRIM(Customers[[#This Row],[Full Name]])," ",-1),"") -> Jones | E6: david.jones@example.com | F6: (264) 790-7499 | G6: New York | H6: Northeast
A7: C106 | B7: Jessica Garcia | C7: =IFERROR(_xlfn.TEXTBEFORE(TRIM(Customers[[#This Row],[Full Name]])," "),TRIM(Customers[[#This Row],[Full Name]])) -> Jessica | D7: =IFERROR(_xlfn.TEXTAFTER(TRIM(Customers[[#This Row],[Full Name]])," ",-1),"") -> Garcia | E7: jessica.garcia@example.com | G7: Dallas | H7: South
A8: C107 | B8: Daniel Miller | C8: =IFERROR(_xlfn.TEXTBEFORE(TRIM(Customers[[#This Row],[Full Name]])," "),TRIM(Customers[[#This Row],[Full Name]])) -> Daniel | D8: =IFERROR(_xlfn.TEXTAFTER(TRIM(Customers[[#This Row],[Full Name]])," ",-1),"") -> Miller | E8: daniel.miller@example.com | G8: Chicago | H8: Midwest
A9: C108 | B9: Ashley Davis | C9: =IFERROR(_xlfn.TEXTBEFORE(TRIM(Customers[[#This Row],[Full Name]])," "),TRIM(Customers[[#This Row],[Full Name]])) -> Ashley | D9: =IFERROR(_xlfn.TEXTAFTER(TRIM(Customers[[#This Row],[Full Name]])," ",-1),"") -> Davis | E9: ashley.davis@example.com | F9: (899) 385-2688 | G9: Los Angeles | H9: West
A10: C109 | B10: Matthew Rodriguez | C10: =IFERROR(_xlfn.TEXTBEFORE(TRIM(Customers[[#This Row],[Full Name]])," "),TRIM(Customers[[#This Row],[Full Name]])) -> Matthew | D10: =IFERROR(_xlfn.TEXTAFTER(TRIM(Customers[[#This Row],[Full Name]])," ",-1),"") -> Rodriguez | E10: matthew.rodriguez@example.com | F10: (265) 777-1976 | G10: Los Angeles | H10: West
A11: C110 | B11: Amanda Martinez | C11: =IFERROR(_xlfn.TEXTBEFORE(TRIM(Customers[[#This Row],[Full Name]])," "),TRIM(Customers[[#This Row],[Full Name]])) -> Amanda | D11: =IFERROR(_xlfn.TEXTAFTER(TRIM(Customers[[#This Row],[Full Name]])," ",-1),"") -> Martinez | E11: amanda.martinez@example.com | F11: (522) 676-8424 | G11: Seattle | H11: West
A12: C111 | B12: Christopher Hernandez | C12: =IFERROR(_xlfn.TEXTBEFORE(TRIM(Customers[[#This Row],[Full Name]])," "),TRIM(Customers[[#This Row],[Full Name]])) -> Christopher | D12: =IFERROR(_xlfn.TEXTAFTER(TRIM(Customers[[#This Row],[Full Name]])," ",-1),"") -> Hernandez | E12: christopher.hernandez@example.com | F12: (916) 998-4999 | G12: Chicago | H12: Midwest
A13: C112 | B13: Jennifer Lopez | C13: =IFERROR(_xlfn.TEXTBEFORE(TRIM(Customers[[#This Row],[Full Name]])," "),TRIM(Customers[[#This Row],[Full Name]])) -> Jennifer | D13: =IFERROR(_xlfn.TEXTAFTER(TRIM(Customers[[#This Row],[Full Name]])," ",-1),"") -> Lopez | E13: jennifer.lopez@example.com | F13: (552) 946-8353 | G13: Atlanta | H13: South
A14: C113 | B14: Andrew Wilson | C14: =IFERROR(_xlfn.TEXTBEFORE(TRIM(Customers[[#This Row],[Full Name]])," "),TRIM(Customers[[#This Row],[Full Name]])) -> Andrew | D14: =IFERROR(_xlfn.TEXTAFTER(TRIM(Customers[[#This Row],[Full Name]])," ",-1),"") -> Wilson | E14: sarah.brown@example.com | G14: Boston | H14: Northeast
A15: C114 | B15: Megan Anderson | C15: =IFERROR(_xlfn.TEXTBEFORE(TRIM(Customers[[#This Row],[Full Name]])," "),TRIM(Customers[[#This Row],[Full Name]])) -> Megan | D15: =IFERROR(_xlfn.TEXTAFTER(TRIM(Customers[[#This Row],[Full Name]])," ",-1),"") -> Anderson | E15: megan.anderson@example.com | F15: (701) 631-1642 | G15: Chicago | H15: Midwest
A16: C115 | B16: Joshua Thomas | C16: =IFERROR(_xlfn.TEXTBEFORE(TRIM(Customers[[#This Row],[Full Name]])," "),TRIM(Customers[[#This Row],[Full Name]])) -> Joshua | D16: =IFERROR(_xlfn.TEXTAFTER(TRIM(Customers[[#This Row],[Full Name]])," ",-1),"") -> Thomas | E16: joshua.thomas@example.com | F16: (522) 548-6737 | G16: Denver | H16: West
A17: C116 | B17: Lauren Taylor | C17: =IFERROR(_xlfn.TEXTBEFORE(TRIM(Customers[[#This Row],[Full Name]])," "),TRIM(Customers[[#This Row],[Full Name]])) -> Lauren | D17: =IFERROR(_xlfn.TEXTAFTER(TRIM(Customers[[#This Row],[Full Name]])," ",-1),"") -> Taylor | E17: lauren.taylor@example.com | F17: (296) 476-8767 | G17: Chicago | H17: Midwest
A18: C117 | B18: Ryan Moore | C18: =IFERROR(_xlfn.TEXTBEFORE(TRIM(Customers[[#This Row],[Full Name]])," "),TRIM(Customers[[#This Row],[Full Name]])) -> Ryan | D18: =IFERROR(_xlfn.TEXTAFTER(TRIM(Customers[[#This Row],[Full Name]])," ",-1),"") -> Moore | E18: ryan.moore@example.com | F18: (863) 791-8301 | G18: Atlanta | H18: South
A19: C118 | B19: Rachel Jackson | C19: =IFERROR(_xlfn.TEXTBEFORE(TRIM(Customers[[#This Row],[Full Name]])," "),TRIM(Customers[[#This Row],[Full Name]])) -> Rachel | D19: =IFERROR(_xlfn.TEXTAFTER(TRIM(Customers[[#This Row],[Full Name]])," ",-1),"") -> Jackson | E19: rachel.jackson@example.com | F19: (556) 223-8564 | G19: Seattle | H19: West
A20: C119 | B20: Brandon Martin | C20: =IFERROR(_xlfn.TEXTBEFORE(TRIM(Customers[[#This Row],[Full Name]])," "),TRIM(Customers[[#This Row],[Full Name]])) -> Brandon | D20: =IFERROR(_xlfn.TEXTAFTER(TRIM(Customers[[#This Row],[Full Name]])," ",-1),"") -> Martin | E20: brandon.martin@example.com | G20: New York | H20: Northeast
A21: C120 | B21: Stephanie Lee | C21: =IFERROR(_xlfn.TEXTBEFORE(TRIM(Customers[[#This Row],[Full Name]])," "),TRIM(Customers[[#This Row],[Full Name]])) -> Stephanie | D21: =IFERROR(_xlfn.TEXTAFTER(TRIM(Customers[[#This Row],[Full Name]])," ",-1),"") -> Lee | E21: stephanie.lee@example.com | F21: (957) 453-7519 | G21: Boston | H21: Northeast
A22: C121 | B22: Tyler Thompson | C22: =IFERROR(_xlfn.TEXTBEFORE(TRIM(Customers[[#This Row],[Full Name]])," "),TRIM(Customers[[#This Row],[Full Name]])) -> Tyler | D22: =IFERROR(_xlfn.TEXTAFTER(TRIM(Customers[[#This Row],[Full Name]])," ",-1),"") -> Thompson | E22: tyler.thompson@example.com | F22: (371) 659-7580 | G22: Atlanta | H22: South
A23: C122 | B23: Nicole White | C23: =IFERROR(_xlfn.TEXTBEFORE(TRIM(Customers[[#This Row],[Full Name]])," "),TRIM(Customers[[#This Row],[Full Name]])) -> Nicole | D23: =IFERROR(_xlfn.TEXTAFTER(TRIM(Customers[[#This Row],[Full Name]])," ",-1),"") -> White | E23: nicole.white@example.com | F23: (764) 485-7804 | G23: Seattle | H23: West
A24: C123 | B24: Kevin Harris | C24: =IFERROR(_xlfn.TEXTBEFORE(TRIM(Customers[[#This Row],[Full Name]])," "),TRIM(Customers[[#This Row],[Full Name]])) -> Kevin | D24: =IFERROR(_xlfn.TEXTAFTER(TRIM(Customers[[#This Row],[Full Name]])," ",-1),"") -> Harris | E24: kevin.harris@example.com | F24: (437) 354-2359 | G24: Dallas | H24: South
A25: C124 | B25: Elizabeth Clark | C25: =IFERROR(_xlfn.TEXTBEFORE(TRIM(Customers[[#This Row],[Full Name]])," "),TRIM(Customers[[#This Row],[Full Name]])) -> Elizabeth | D25: =IFERROR(_xlfn.TEXTAFTER(TRIM(Customers[[#This Row],[Full Name]])," ",-1),"") -> Clark | E25: elizabeth.clark@example.com | F25: (213) 696-3987 | G25: Atlanta | H25: South
A26: C125 | B26: Jacob Lewis | C26: =IFERROR(_xlfn.TEXTBEFORE(TRIM(Customers[[#This Row],[Full Name]])," "),TRIM(Customers[[#This Row],[Full Name]])) -> Jacob | D26: =IFERROR(_xlfn.TEXTAFTER(TRIM(Customers[[#This Row],[Full Name]])," ",-1),"") -> Lewis | E26: jacob.lewis@example.com | G26: Seattle | H26: West
A27: C126 | B27: Samantha Robinson | C27: =IFERROR(_xlfn.TEXTBEFORE(TRIM(Customers[[#This Row],[Full Name]])," "),TRIM(Customers[[#This Row],[Full Name]])) -> Samantha | D27: =IFERROR(_xlfn.TEXTAFTER(TRIM(Customers[[#This Row],[Full Name]])," ",-1),"") -> Robinson | E27: samantha.robinson@example.com | F27: (329) 907-9445 | G27: New York | H27: Northeast
A28: C127 | B28: Justin Walker | C28: =IFERROR(_xlfn.TEXTBEFORE(TRIM(Customers[[#This Row],[Full Name]])," "),TRIM(Customers[[#This Row],[Full Name]])) -> Justin | D28: =IFERROR(_xlfn.TEXTAFTER(TRIM(Customers[[#This Row],[Full Name]])," ",-1),"") -> Walker | E28: justin.walker@example.com | F28: (897) 772-7428 | G28: Boston | H28: Northeast
A29: C128 | B29: Hannah Young | C29: =IFERROR(_xlfn.TEXTBEFORE(TRIM(Customers[[#This Row],[Full Name]])," "),TRIM(Customers[[#This Row],[Full Name]])) -> Hannah | D29: =IFERROR(_xlfn.TEXTAFTER(TRIM(Customers[[#This Row],[Full Name]])," ",-1),"") -> Young | E29: amanda.martinez@example.com | G29: Boston | H29: Northeast
A30: C129 | B30: Nathan Allen | C30: =IFERROR(_xlfn.TEXTBEFORE(TRIM(Customers[[#This Row],[Full Name]])," "),TRIM(Customers[[#This Row],[Full Name]])) -> Nathan | D30: =IFERROR(_xlfn.TEXTAFTER(TRIM(Customers[[#This Row],[Full Name]])," ",-1),"") -> Allen | E30: nathan.allen@example.com | G30: Los Angeles | H30: West
A31: C130 | B31: Olivia King | C31: =IFERROR(_xlfn.TEXTBEFORE(TRIM(Customers[[#This Row],[Full Name]])," "),TRIM(Customers[[#This Row],[Full Name]])) -> Olivia | D31: =IFERROR(_xlfn.TEXTAFTER(TRIM(Customers[[#This Row],[Full Name]])," ",-1),"") -> King | E31: olivia.king@example.com | G31: New York | H31: Northeast
A32: C131 | B32: Zachary Wright | C32: =IFERROR(_xlfn.TEXTBEFORE(TRIM(Customers[[#This Row],[Full Name]])," "),TRIM(Customers[[#This Row],[Full Name]])) -> Zachary | D32: =IFERROR(_xlfn.TEXTAFTER(TRIM(Customers[[#This Row],[Full Name]])," ",-1),"") -> Wright | E32: zachary.wright@example.com | F32: (750) 303-6957 | G32: New York | H32: Northeast
A33: C132 | B33: Brittany Scott | C33: =IFERROR(_xlfn.TEXTBEFORE(TRIM(Customers[[#This Row],[Full Name]])," "),TRIM(Customers[[#This Row],[Full Name]])) -> Brittany | D33: =IFERROR(_xlfn.TEXTAFTER(TRIM(Customers[[#This Row],[Full Name]])," ",-1),"") -> Scott | E33: brittany.scott@example.com | F33: (586) 352-5132 | G33: Seattle | H33: West
A34: C133 | B34: Ethan Green | C34: =IFERROR(_xlfn.TEXTBEFORE(TRIM(Customers[[#This Row],[Full Name]])," "),TRIM(Customers[[#This Row],[Full Name]])) -> Ethan | D34: =IFERROR(_xlfn.TEXTAFTER(TRIM(Customers[[#This Row],[Full Name]])," ",-1),"") -> Green | E34: ethan.green@example.com | F34: (319) 699-8634 | G34: Denver | H34: West
A35: C134 | B35: Kayla Baker | C35: =IFERROR(_xlfn.TEXTBEFORE(TRIM(Customers[[#This Row],[Full Name]])," "),TRIM(Customers[[#This Row],[Full Name]])) -> Kayla | D35: =IFERROR(_xlfn.TEXTAFTER(TRIM(Customers[[#This Row],[Full Name]])," ",-1),"") -> Baker | E35: kayla.baker@example.com | G35: Chicago | H35: Midwest
A36: C135 | B36: Aaron Adams | C36: =IFERROR(_xlfn.TEXTBEFORE(TRIM(Customers[[#This Row],[Full Name]])," "),TRIM(Customers[[#This Row],[Full Name]])) -> Aaron | D36: =IFERROR(_xlfn.TEXTAFTER(TRIM(Customers[[#This Row],[Full Name]])," ",-1),"") -> Adams | E36: aaron.adams@example.com | F36: (691) 908-3645 | G36: New York | H36: Northeast
A37: C136 | B37: Victoria Nelson | C37: =IFERROR(_xlfn.TEXTBEFORE(TRIM(Customers[[#This Row],[Full Name]])," "),TRIM(Customers[[#This Row],[Full Name]])) -> Victoria | D37: =IFERROR(_xlfn.TEXTAFTER(TRIM(Customers[[#This Row],[Full Name]])," ",-1),"") -> Nelson | E37: victoria.nelson@example.com | F37: (571) 350-9899 | G37: New York | H37: Northeast
A38: C137 | B38: Nicholas Hill | C38: =IFERROR(_xlfn.TEXTBEFORE(TRIM(Customers[[#This Row],[Full Name]])," "),TRIM(Customers[[#This Row],[Full Name]])) -> Nicholas | D38: =IFERROR(_xlfn.TEXTAFTER(TRIM(Customers[[#This Row],[Full Name]])," ",-1),"") -> Hill | E38: nicholas.hill@example.com | F38: (859) 293-5278 | G38: Seattle | H38: West
A39: C138 | B39: Rebecca Campbell | C39: =IFERROR(_xlfn.TEXTBEFORE(TRIM(Customers[[#This Row],[Full Name]])," "),TRIM(Customers[[#This Row],[Full Name]])) -> Rebecca | D39: =IFERROR(_xlfn.TEXTAFTER(TRIM(Customers[[#This Row],[Full Name]])," ",-1),"") -> Campbell | E39: rebecca.campbell@example.com | F39: (429) 745-9873 | G39: Seattle | H39: West
A40: C139 | B40: Benjamin Mitchell | C40: =IFERROR(_xlfn.TEXTBEFORE(TRIM(Customers[[#This Row],[Full Name]])," "),TRIM(Customers[[#This Row],[Full Name]])) -> Benjamin | D40: =IFERROR(_xlfn.TEXTAFTER(TRIM(Customers[[#This Row],[Full Name]])," ",-1),"") -> Mitchell | E40: benjamin.mitchell@example.com | F40: (977) 399-4922 | G40: Boston | H40: Northeast
...

Sheet Products
A1: Product | B1: Unit Price | C1: Unit Cost
A2: Laptop Pro 15 | B2: 1800 | C2: 1350
A3: Desktop Tower | B3: 1200 | C3: 900
A4: Monitor 27 | B4: 450 | C4: 320
A5: Server Rack Unit | B5: 9500 | C5: 7200
A6: Wireless Printer | B6: 300 | C6: 210
A7: Tablet 11 | B7: 850 | C7: 630

Sheet Revenue Pivot
A1: Total Revenue by Region and Month
A3: Total Revenue | B3: Month
A4: Region | B4: 45292 | C4: 45323 | D4: 45352 | E4: 45383 | F4: 45413 | G4: 45444 | H4: 45474 | I4: 45505 | J4: 45536 | K4: 45566 | L4: 45597 | M4: 45627 | N4: 45658 | O4: 45689 | P4: 45717 | Q4: 45748 | R4: 45778 | S4: 45809 | T4: 45839 | U4: 45870 | V4: 45901 | W4: 45931 | X4: 45962 | Y4: 45992 | Z4: Grand Total
A5: Midwest | C5: 32300 | D5: 111200 | E5: 84450 | F5: 12000 | H5: 159600 | I5: 29800 | J5: 3000 | K5: 46350 | L5: 86400 | O5: 123900 | R5: 89100 | S5: 52800 | T5: 6000 | U5: 44700 | W5: 44850 | X5: 18000 | Y5: 99200 | Z5: 1043650
A6: Northeast | B6: 178350 | C6: 96250 | D6: 91950 | E6: 103950 | F6: 76000 | G6: 25200 | H6: 52100 | I6: 8400 | J6: 131850 | K6: 190050 | L6: 114150 | M6: 61200 | N6: 153300 | O6: 138300 | P6: 24650 | Q6: 128950 | R6: 132700 | S6: 39600 | T6: 31300 | U6: 328350 | V6: 132300 | W6: 230150 | X6: 122800 | Y6: 211800 | Z6: 2803650
A7: South | B7: 92600 | D7: 86400 | F7: 22700 | G7: 183900 | H7: 22200 | I7: 25200 | K7: 14100 | M7: 5850 | N7: 108000 | O7: 23400 | P7: 51600 | R7: 20700 | S7: 55200 | T7: 19000 | U7: 9900 | V7: 47400 | W7: 185400 | X7: 9300 | Z7: 982850
A8: West | B8: 8500 | C8: 9000 | D8: 38000 | E8: 126100 | F8: 126550 | G8: 150300 | H8: 147150 | I8: 152250 | J8: 318200 | K8: 95000 | L8: 85500 | M8: 249600 | N8: 21150 | O8: 108100 | P8: 413400 | Q8: 70000 | R8: 131100 | S8: 90100 | T8: 78600 | U8: 85500 | V8: 126000 | X8: 66250 | Y8: 56750 | Z8: 2753100
A9: Grand Total | B9: 279450 | C9: 137550 | D9: 327550 | E9: 314500 | F9: 237250 | G9: 359400 | H9: 381050 | I9: 215650 | J9: 453050 | K9: 345500 | L9: 286050 | M9: 316650 | N9: 282450 | O9: 393700 | P9: 489650 | Q9: 198950 | R9: 373600 | S9: 237700 | T9: 134900 | U9: 468450 | V9: 305700 | W9: 460400 | X9: 216350 | Y9: 367750 | Z9: 7583250

Sheet Price Sensitivity
A1: 5% Price Increase Sensitivity
A2: Assumes quantities and product mix remain unchanged.
A3: Price Increase | B3: 0.05
A5: Metric | B5: Baseline | C5: With Price Increase | D5: Impact
A6: Total Revenue | B6: =SUM(Sales[Revenue]) -> 7583250 | C6: =B6*(1+$B$3) -> 7962412.5 | D6: =C6-B6 -> 379162.5
A7: Total Cost | B7: =SUM(Sales[Cost]) -> 5683163 | C7: =B7 -> 5683163 | D7: =C7-B7 -> 0
A8: Total Profit | B8: =B6-B7 -> 1900087 | C8: =C6-C7 -> 2279249.5 | D8: =C8-B8 -> 379162.5
A9: Profit Margin | B9: =B8/B6 -> 0.25056368 | C9: =C8/C6 -> 0.28625112 | D9: =C9-B9 -> 0.035687444
A11: Product | B11: Current Unit Price | C11: Price +5% | D11: Units Sold | E11: Baseline Revenue | F11: Projected Revenue | G11: Revenue Impact
A12: Laptop Pro 15 | B12: =_xlfn.XLOOKUP(A12,Products[Product],Products[Unit Price]) -> 1800 | C12: =B12*(1+$B$3) -> 1890 | D12: =SUMIF(Sales[Product],A12,Sales[Quantity]) -> 1264 | E12: =SUMIF(Sales[Product],A12,Sales[Revenue]) -> 2275200 | F12: =C12*D12 -> 2388960 | G12: =F12-E12 -> 113760
A13: Desktop Tower | B13: =_xlfn.XLOOKUP(A13,Products[Product],Products[Unit Price]) -> 1200 | C13: =B13*(1+$B$3) -> 1260 | D13: =SUMIF(Sales[Product],A13,Sales[Quantity]) -> 1101 | E13: =SUMIF(Sales[Product],A13,Sales[Revenue]) -> 1321200 | F13: =C13*D13 -> 1387260 | G13: =F13-E13 -> 66060
A14: Monitor 27 | B14: =_xlfn.XLOOKUP(A14,Products[Product],Products[Unit Price]) -> 450 | C14: =B14*(1+$B$3) -> 472.5 | D14: =SUMIF(Sales[Product],A14,Sales[Quantity]) -> 1079 | E14: =SUMIF(Sales[Product],A14,Sales[Revenue]) -> 485550 | F14: =C14*D14 -> 509827.5 | G14: =F14-E14 -> 24277.5
A15: Server Rack Unit | B15: =_xlfn.XLOOKUP(A15,Products[Product],Products[Unit Price]) -> 9500 | C15: =B15*(1+$B$3) -> 9975 | D15: =SUMIF(Sales[Product],A15,Sales[Quantity]) -> 266 | E15: =SUMIF(Sales[Product],A15,Sales[Revenue]) -> 2527000 | F15: =C15*D15 -> 2653350 | G15: =F15-E15 -> 126350
A16: Wireless Printer | B16: =_xlfn.XLOOKUP(A16,Products[Product],Products[Unit Price]) -> 300 | C16: =B16*(1+$B$3) -> 315 | D16: =SUMIF(Sales[Product],A16,Sales[Quantity]) -> 1100 | E16: =SUMIF(Sales[Product],A16,Sales[Revenue]) -> 330000 | F16: =C16*D16 -> 346500 | G16: =F16-E16 -> 16500
A17: Tablet 11 | B17: =_xlfn.XLOOKUP(A17,Products[Product],Products[Unit Price]) -> 850 | C17: =B17*(1+$B$3) -> 892.5 | D17: =SUMIF(Sales[Product],A17,Sales[Quantity]) -> 758 | E17: =SUMIF(Sales[Product],A17,Sales[Revenue]) -> 644300 | F17: =C17*D17 -> 676515 | G17: =F17-E17 -> 32215
A18: Total | D18: =SUM(D12:D17) -> 5568 | E18: =SUM(E12:E17) -> 7583250 | F18: =SUM(F12:F17) -> 7962412.5 | G18: =SUM(G12:G17) -> 379162.5

Sheet 2025 Region Chart
A1: 2025 Sales by Region
A3: Region | B3: Revenue
A4: Northeast | B4: 1674200
A5: West | B5: 1246950
A6: South | B6: 529900
A7: Midwest | B7: 478550

Sheet YoY Sales Summary
A1: Monthly Sales: 2025 vs 2024
A2: Year-over-year comparison using Sales revenue for the same calendar month
A4: Month | B4: 2024 Sales | C4: 2025 Sales | D4: YoY Change
A5: January | B5: =SUMIFS(Sales[Revenue],Sales[Date],">="&DATE(2024,ROW()-4,1),Sales[Date],"<"&EDATE(DATE(2024,ROW()-4,1),1)) -> 279450 | C5: =SUMIFS(Sales[Revenue],Sales[Date],">="&DATE(2025,ROW()-4,1),Sales[Date],"<"&EDATE(DATE(2025,ROW()-4,1),1)) -> 282450 | D5: =IFERROR(C5/B5-1,"") -> 0.010735373
A6: February | B6: =SUMIFS(Sales[Revenue],Sales[Date],">="&DATE(2024,ROW()-4,1),Sales[Date],"<"&EDATE(DATE(2024,ROW()-4,1),1)) -> 137550 | C6: =SUMIFS(Sales[Revenue],Sales[Date],">="&DATE(2025,ROW()-4,1),Sales[Date],"<"&EDATE(DATE(2025,ROW()-4,1),1)) -> 393700 | D6: =IFERROR(C6/B6-1,"") -> 1.8622319
A7: March | B7: =SUMIFS(Sales[Revenue],Sales[Date],">="&DATE(2024,ROW()-4,1),Sales[Date],"<"&EDATE(DATE(2024,ROW()-4,1),1)) -> 327550 | C7: =SUMIFS(Sales[Revenue],Sales[Date],">="&DATE(2025,ROW()-4,1),Sales[Date],"<"&EDATE(DATE(2025,ROW()-4,1),1)) -> 489650 | D7: =IFERROR(C7/B7-1,"") -> 0.49488628
A8: April | B8: =SUMIFS(Sales[Revenue],Sales[Date],">="&DATE(2024,ROW()-4,1),Sales[Date],"<"&EDATE(DATE(2024,ROW()-4,1),1)) -> 314500 | C8: =SUMIFS(Sales[Revenue],Sales[Date],">="&DATE(2025,ROW()-4,1),Sales[Date],"<"&EDATE(DATE(2025,ROW()-4,1),1)) -> 198950 | D8: =IFERROR(C8/B8-1,"") -> -0.36740859
A9: May | B9: =SUMIFS(Sales[Revenue],Sales[Date],">="&DATE(2024,ROW()-4,1),Sales[Date],"<"&EDATE(DATE(2024,ROW()-4,1),1)) -> 237250 | C9: =SUMIFS(Sales[Revenue],Sales[Date],">="&DATE(2025,ROW()-4,1),Sales[Date],"<"&EDATE(DATE(2025,ROW()-4,1),1)) -> 373600 | D9: =IFERROR(C9/B9-1,"") -> 0.57471022
A10: June | B10: =SUMIFS(Sales[Revenue],Sales[Date],">="&DATE(2024,ROW()-4,1),Sales[Date],"<"&EDATE(DATE(2024,ROW()-4,1),1)) -> 359400 | C10: =SUMIFS(Sales[Revenue],Sales[Date],">="&DATE(2025,ROW()-4,1),Sales[Date],"<"&EDATE(DATE(2025,ROW()-4,1),1)) -> 237700 | D10: =IFERROR(C10/B10-1,"") -> -0.33861992
A11: July | B11: =SUMIFS(Sales[Revenue],Sales[Date],">="&DATE(2024,ROW()-4,1),Sales[Date],"<"&EDATE(DATE(2024,ROW()-4,1),1)) -> 381050 | C11: =SUMIFS(Sales[Revenue],Sales[Date],">="&DATE(2025,ROW()-4,1),Sales[Date],"<"&EDATE(DATE(2025,ROW()-4,1),1)) -> 134900 | D11: =IFERROR(C11/B11-1,"") -> -0.64597822
A12: August | B12: =SUMIFS(Sales[Revenue],Sales[Date],">="&DATE(2024,ROW()-4,1),Sales[Date],"<"&EDATE(DATE(2024,ROW()-4,1),1)) -> 215650 | C12: =SUMIFS(Sales[Revenue],Sales[Date],">="&DATE(2025,ROW()-4,1),Sales[Date],"<"&EDATE(DATE(2025,ROW()-4,1),1)) -> 468450 | D12: =IFERROR(C12/B12-1,"") -> 1.1722699
A13: September | B13: =SUMIFS(Sales[Revenue],Sales[Date],">="&DATE(2024,ROW()-4,1),Sales[Date],"<"&EDATE(DATE(2024,ROW()-4,1),1)) -> 453050 | C13: =SUMIFS(Sales[Revenue],Sales[Date],">="&DATE(2025,ROW()-4,1),Sales[Date],"<"&EDATE(DATE(2025,ROW()-4,1),1)) -> 305700 | D13: =IFERROR(C13/B13-1,"") -> -0.32524004
A14: October | B14: =SUMIFS(Sales[Revenue],Sales[Date],">="&DATE(2024,ROW()-4,1),Sales[Date],"<"&EDATE(DATE(2024,ROW()-4,1),1)) -> 345500 | C14: =SUMIFS(Sales[Revenue],Sales[Date],">="&DATE(2025,ROW()-4,1),Sales[Date],"<"&EDATE(DATE(2025,ROW()-4,1),1)) -> 460400 | D14: =IFERROR(C14/B14-1,"") -> 0.33256151
A15: November | B15: =SUMIFS(Sales[Revenue],Sales[Date],">="&DATE(2024,ROW()-4,1),Sales[Date],"<"&EDATE(DATE(2024,ROW()-4,1),1)) -> 286050 | C15: =SUMIFS(Sales[Revenue],Sales[Date],">="&DATE(2025,ROW()-4,1),Sales[Date],"<"&EDATE(DATE(2025,ROW()-4,1),1)) -> 216350 | D15: =IFERROR(C15/B15-1,"") -> -0.2436637
A16: December | B16: =SUMIFS(Sales[Revenue],Sales[Date],">="&DATE(2024,ROW()-4,1),Sales[Date],"<"&EDATE(DATE(2024,ROW()-4,1),1)) -> 316650 | C16: =SUMIFS(Sales[Revenue],Sales[Date],">="&DATE(2025,ROW()-4,1),Sales[Date],"<"&EDATE(DATE(2025,ROW()-4,1),1)) -> 367750 | D16: =IFERROR(C16/B16-1,"") -> 0.16137691
A17: Total | B17: =SUM(B5:B16) -> 3653650 | C17: =SUM(C5:C16) -> 3929600 | D17: =IFERROR(C17/B17-1,"") -> 0.075527213
